Workbook

Sheet Bills List Res
A1: RESOLUTION NO. 2025-08.XX
A2: OF THE GOVERNING BODY OF
A3: THE BOROUGH OF BLOOMINGDALE
A5: Authorizing Payment of Municipal Obligations
B7: WHEREAS, the Governing Body ("Governing Body") of the Borough of Bloomingdale
B8: ("Borough") finds and declares that certain municipal obligations have come due and are
B9: now payable; and
B11: WHEREAS, the Governing Body further finds and declares that said obligations have
B12: been itemized on the annexed schedules, which are hereby deemed part of this Resolution;
B14: NOW, THEREFORE, BE IT RESOLVED that the Governing Body of the Borough of
B15: Bloomingdale does hereby authorize payment of said municipal obligations, in accordance
B16: with the recommendations of the Chief Financial Officer and the Borough Treasurer, from
B17: the following accounts and in the following amounts:
B19: BILLS LIST | G19: PREPAID
B20: LIST
B22: CURRENT | D22: ='Bills List'!B20 -> 3368890.2 | G22: CURRENT | J22: 721796.25
B23: UTILITY | D23: ='Bills List'!C20 -> 586717.33 | G23: UTILITY | J23: 127950.74
B24: CAPITAL | D24: ='Bills List'!D20 -> 40051.21 | G24: OPEN SPACE | J24: 0
B25: CAPITAL UTILITY | D25: ='Bills List'!E20 -> 492 | G25: TRUST ACCOUNT | J25: 19450
B26: TRUST | D26: ='Bills List'!F20 -> 153466.35 | G26: RECYCLING | J26: 291.92
B27: DOG TRUST | D27: ='Bills List'!G20 -> 1837.94 | G27: DOG TRUST | J27: 0
B28: RECREATION | D28: ='Bills List'!H20 -> 13271.77 | G28: UNEMPLOYMENT | J28: 187.38
B29: ROSE FUND | D29: ='Bills List'!I20 -> 7799.35 | G29: CAPITAL | J29: 0
B30: RECYCLING | D30: ='Bills List'!J20 -> 0 | G30: WATER CAPITAL | J30: 0
B31: UNEMPLOYMENT | D31: ='Bills List'!K20 -> 1635.37 | G31: RECREATION | J31: 26448.75
B32: AFFORDABLE HOUSING | D32: ='Bills List'!L20 -> 1380 | G32: CAPITAL ASSESSMENT | J32: 0
B33: TOTAL | D33: =SUM(D22:E32) -> 4175541.5 | G33: TOTAL | J33: =SUM(J22:K32) -> 896125.04
A35: Record of Council Vote on Passage
B36: COUNCILPERSON | C36: AYE | D36: NAY | E36: Abstain | F36: Absent | G36: COUNCILPERSON | H36: AYE | I36: NAY | J36: Abstain | K36: Absent
B37: Bronkhurst | G37: Hudson
B38: Catalano | G38: Schubert
B39: Graziano | G39: Yazdi
B40: *recusals are listed in the official minutes*
B42: I hereby certify that the foregoing is a true copy of a Resolution adopted by the Governing Body of the
B43: Borough of Bloomingdale at an Official Meeting held on Tuesday, August 19, 2025.
B46: Breeanna Smith, R.M.C.
B47: Municipal Clerk, Borough of Bloomingdale

Sheet Bills List
B1: CURRENT | C1: UTILITY | D1: CAPITAL | E1: WATER & SEWER CAPITAL | F1: TRUST | G1: DOG TRUST | H1: RECREATION | I1: ROSE FUND | J1: RECYCLING | K1: UNEMPLOYMENT | L1: AFFORDABLE HOUSING
B2: 1155 | C2: 586717.33 | D2: 40051.21 | E2: 492 | F2: 21154 | G2: 1837.94 | H2: 13271.77 | I2: 7799.35 | K2: 1635.37 | L2: 1380
B3: 3351540.2 | F3: 132312.35
B4: 16194.99
A20: TOTAL | B20: =SUM(B2:B19) -> 3368890.2 | C20: =SUM(C2:C19) -> 586717.33 | D20: =SUM(D2:D19) -> 40051.21 | E20: =SUM(E2:E19) -> 492 | F20: =SUM(F2:F19) -> 153466.35 | G20: =SUM(G2:G19) -> 1837.94 | H20: =SUM(H2:H19) -> 13271.77 | I20: =SUM(I2:I19) -> 7799.35 | ... L20: =SUM(L2:L19) -> 1380 | M20: =SUM(B20:L20) -> 4175541.5
